BEGIN:VCALENDAR
VERSION:2.0
PRODID:-//ChamberMaster//Event Calendar 2.0//EN
METHOD:PUBLISH
X-PUBLISHED-TTL:P3D
REFRESH-INTERVAL:P3D
CALSCALE:GREGORIAN
BEGIN:VEVENT
DTSTART;VALUE=DATE:20260514
DTEND;VALUE=DATE:20260515
TRANSP:TRANSPARENT
X-MICROSOFT-CDO-ALLDAYEVENT:TRUE
SUMMARY:Spring Headshot Event with Bondurant Studios
DESCRIPTION:Join us May 14 for a streamlined\, fully guided headshot experience designed for professionals\, business owners\, and creatives ready for an image update! These are our only events until fall\, and spots are limited. If your current headshot doesn't reflect who you are now\, this is your moment. What's included: Professional Hair & Makeup Magazine Style Headshots Fully Guided Posing Master Retouching Details and booking are live on our website. Reply to this email or text/call 913-905-9394 and we'll walk you through it.
X-ALT-DESC;FMTTYPE=text/html:Join us May 14 for a streamlined\, fully guided headshot experience designed for professionals\, business owners\, and creatives ready for an image update! These are our only events until fall\, and spots are limited. If your current headshot doesn&rsquo\;t reflect who you are now\, this is your moment. What&rsquo\;s included: Professional Hair &amp\; Makeup Magazine Style Headshots Fully Guided Posing Master Retouching Details and booking are live on our website. Reply to this email or text/call 913-905-9394 and we&rsquo\;ll walk you through it.
LOCATION:Bondurant Studios in Downtown Shawnee
UID:e.2554.6710
SEQUENCE:3
DTSTAMP:20260423T115800Z
URL:https://business.shawneekschamber.com/events/details/spring-headshot-event-with-bondurant-studios-6710
END:VEVENT

END:VCALENDAR
