BEGIN:VCALENDAR
VERSION:2.0
PRODID:-//ChamberMaster//Event Calendar 2.0//EN
METHOD:PUBLISH
X-PUBLISHED-TTL:P3D
REFRESH-INTERVAL:P3D
CALSCALE:GREGORIAN
BEGIN:VEVENT
DTSTART:20180410T150000Z
DTEND:20180410T163000Z
X-MICROSOFT-CDO-ALLDAYEVENT:FALSE
SUMMARY:Small Business Exchange
DESCRIPTION:April 10\, 2018: Brand Development Challenge \n\nEmily Crawford of OA Creative will discuss the key steps your business can use to develop your own brand or rebranding.
X-ALT-DESC;FMTTYPE=text/html:<span style="font-family:arial\;"><strong>April 10\, 2018: Brand Development Challenge&nbsp\;</strong><br />\nEmily Crawford of OA Creative will discuss the key steps your business can use to develop your own brand or rebranding.&nbsp\;</span><br />\n<br />\n&nbsp\;
LOCATION:Country Club Bank 21911 West 66th Street Shawnee KS 66226
UID:e.2554.3515
SEQUENCE:3
DTSTAMP:20260423T105756Z
URL:https://business.shawneekschamber.com/events/details/small-business-exchange-02-27-2018-3515
END:VEVENT

END:VCALENDAR
