BEGIN:VCALENDAR
VERSION:2.0
PRODID:-//ChamberMaster//Event Calendar 2.0//EN
METHOD:PUBLISH
X-PUBLISHED-TTL:P3D
REFRESH-INTERVAL:P3D
CALSCALE:GREGORIAN
BEGIN:VEVENT
DTSTART:20200730T210000Z
DTEND:20200730T220000Z
X-MICROSOFT-CDO-ALLDAYEVENT:FALSE
SUMMARY:Ribbon Cutting - McLain's Market Shawnee
DESCRIPTION:Join us as we celebrate with a ribbon cutting ceremony for the newly opened McLain's Market in downtown Shawnee!
X-ALT-DESC;FMTTYPE=text/html:Join us as we celebrate with a ribbon cutting ceremony for the newly opened McLain&#39\;s Market in downtown Shawnee!&nbsp\;
LOCATION:McLain's Market Shawnee 5833 Nieman Road Shawnee\, KS 66203
UID:e.2554.4979
SEQUENCE:3
DTSTAMP:20260421T130220Z
URL:https://business.shawneekschamber.com/events/details/ribbon-cutting-mclain-s-market-shawnee-4979
END:VEVENT

END:VCALENDAR
