BEGIN:VCALENDAR
VERSION:2.0
PRODID:-//ChamberMaster//Event Calendar 2.0//EN
METHOD:PUBLISH
X-PUBLISHED-TTL:P3D
REFRESH-INTERVAL:P3D
CALSCALE:GREGORIAN
BEGIN:VEVENT
DTSTART:20200116T223000Z
DTEND:20200116T233000Z
X-MICROSOFT-CDO-ALLDAYEVENT:FALSE
SUMMARY:Ribbon Cutting - EverFit
DESCRIPTION:Join us for a Ribbon Cutting at EverFit's new location! Stick around for fun\, networking\, and refreshments after the ribbon cutting.
X-ALT-DESC;FMTTYPE=text/html:Join us for a Ribbon Cutting at EverFit&#39\;s new location! Stick around for fun\, networking\, and refreshments after the ribbon cutting.&nbsp\;
LOCATION:8302 Hedge Lane Terrace\, Suite H\, Shawnee KS
UID:e.2554.4909
SEQUENCE:3
DTSTAMP:20260425T143751Z
URL:https://business.shawneekschamber.com/events/details/ribbon-cutting-everfit-4909
END:VEVENT

END:VCALENDAR
