BEGIN:VCALENDAR
VERSION:2.0
PRODID:-//ChamberMaster//Event Calendar 2.0//EN
METHOD:PUBLISH
X-PUBLISHED-TTL:P3D
REFRESH-INTERVAL:P3D
CALSCALE:GREGORIAN
BEGIN:VEVENT
DTSTART:20200709T180000Z
DTEND:20200709T220000Z
X-MICROSOFT-CDO-ALLDAYEVENT:FALSE
SUMMARY:Listening to the Verbal and Non-Verbal
DESCRIPTION:Almost everyone has heard of "Active Listening"\, but have you heard of the other eight kinds? Listening is a neglected leadership skill. By honing your listening skills\, you will gather information\, develop rapport\, and influence those around you. Consider words\, meanings\, and messages within the context of non-verbal communication. Learn how to project confidence and calm at your next meeting\, determine if your customer is telling the full truth\, and understand your boss's silence. This class is part of the Business Communication Certificate.
X-ALT-DESC;FMTTYPE=text/html:Almost everyone has heard of &quot\;Active Listening&quot\;\, but have you heard of the other eight kinds? Listening is a neglected leadership skill. By honing your listening skills\, you will gather information\, develop rapport\, and influence those around you. Consider words\, meanings\, and messages within the context of non-verbal communication. Learn how to project confidence and calm at your next meeting\, determine if your customer is telling the full truth\, and understand your boss&#39\;s silence. This class is part of the Business Communication Certificate.
LOCATION:Almost everyone has heard of "Active Listening"\, but have you heard of the other eight kinds? Listening is a neglected leadership skill. By honing your listening skills\, you will gather information\, develop rapport\, and influence those around you. Consider words\, meanings\, and messages within the context of non-verbal communication. Learn how to project confidence and calm at your next meeting\, determine if your customer is telling the full truth\, and understand your boss's silence. This class is part of the Business Communication Certificate.
UID:e.2554.4983
SEQUENCE:3
DTSTAMP:20260424T161440Z
URL:https://business.shawneekschamber.com/events/details/listening-to-the-verbal-and-non-verbal-4983
END:VEVENT

END:VCALENDAR
