BEGIN:VCALENDAR
VERSION:2.0
PRODID:-//ChamberMaster//Event Calendar 2.0//EN
METHOD:PUBLISH
X-PUBLISHED-TTL:P3D
REFRESH-INTERVAL:P3D
CALSCALE:GREGORIAN
BEGIN:VEVENT
DTSTART:20200709T230000Z
DTEND:20200807T020000Z
X-MICROSOFT-CDO-ALLDAYEVENT:FALSE
SUMMARY:Lean Six Sigma Green Belt - 1. Define
DESCRIPTION:Green Belts are professionals well versed in the Lean and Six Sigma methodologies\, and understand the application of process improvements that eliminate non-value added steps\, reduce lead time and begin to reduce process variations. They collect data\, make initial interpretations and begin to formulate recommendations that are fed to Black Belts or the sponsoring managers. This updated program is divided into 3 modules: 1. Introduction & Define Phase 2. Measure Phase 3. Analyze\, Improve and Control Phases This first module is a prerequisite for the other two modules\, which should be taken in sequence. This module covers an introduction to Lean Six Sigma concepts\, including Lean Operations\, Project Management\, Team Development and Management\, and Design for Six Sigma. It focuses on the Define Phase\, which establishes the project goals\, customer requirements and project deliverables and expectations.
X-ALT-DESC;FMTTYPE=text/html:Green Belts are professionals well versed in the Lean and Six Sigma methodologies\, and understand the application of process improvements that eliminate non-value added steps\, reduce lead time and begin to reduce process variations. They collect data\, make initial interpretations and begin to formulate recommendations that are fed to Black Belts or the sponsoring managers. This updated program is divided into 3 modules: 1. Introduction &amp\; Define Phase 2. Measure Phase 3. Analyze\, Improve and Control Phases This first module is a prerequisite for the other two modules\, which should be taken in sequence. This module covers an introduction to Lean Six Sigma concepts\, including Lean Operations\, Project Management\, Team Development and Management\, and Design for Six Sigma. It focuses on the Define Phase\, which establishes the project goals\, customer requirements and project deliverables and expectations.
LOCATION:Live Online
UID:e.2554.4996
SEQUENCE:3
DTSTAMP:20260424T084416Z
URL:https://business.shawneekschamber.com/events/details/lean-six-sigma-green-belt-1-define-4996
END:VEVENT

END:VCALENDAR
