BEGIN:VCALENDAR
VERSION:2.0
PRODID:-//ChamberMaster//Event Calendar 2.0//EN
METHOD:PUBLISH
X-PUBLISHED-TTL:P3D
REFRESH-INTERVAL:P3D
CALSCALE:GREGORIAN
BEGIN:VEVENT
DTSTART;VALUE=DATE:20200713
DTEND;VALUE=DATE:20200714
TRANSP:TRANSPARENT
X-MICROSOFT-CDO-ALLDAYEVENT:TRUE
SUMMARY:Leadership Development Certificate: Living As A Leader
DESCRIPTION:Online Learning and One-on-One Virtual Coaching is what sets this program apart from others. This 11-month Leadership Development Series is designed to help you and your organization's leaders improve the employee experience and drive business results. Our process focuses on the development of leadership skills and strategies\, as well as frequent application opportunities. Leaders at all levels can attend this Certificate program. Click here for more information. Reinforcement Tools included in this series: 11 One-Hour 1:1 Virtual Coaching Sessions 11 Interactive E-Learning Modules (access for 2 yrs.) Mobile App (you will have for life) Participant Workbook
X-ALT-DESC;FMTTYPE=text/html:Online Learning and One-on-One Virtual Coaching is what sets this program apart from others. This 11-month Leadership Development Series is designed to help you and your organization&rsquo\;s leaders improve the employee experience and drive business results. Our process focuses on the development of leadership skills and strategies\, as well as frequent application opportunities. Leaders at all levels can attend this Certificate program. Click here for more information. Reinforcement Tools included in this series: 11 One-Hour 1:1 Virtual Coaching Sessions 11 Interactive E-Learning Modules (access for 2 yrs.) Mobile App (you will have for life) Participant Workbook
LOCATION:Online
UID:e.2554.4999
SEQUENCE:3
DTSTAMP:20260422T102910Z
URL:https://business.shawneekschamber.com/events/details/leadership-development-certificate-living-as-a-leader-4999
END:VEVENT

END:VCALENDAR
