BEGIN:VCALENDAR
VERSION:2.0
PRODID:-//ChamberMaster//Event Calendar 2.0//EN
METHOD:PUBLISH
X-PUBLISHED-TTL:P3D
REFRESH-INTERVAL:P3D
CALSCALE:GREGORIAN
BEGIN:VEVENT
DTSTART:20191114T190000Z
DTEND:20191114T220000Z
X-MICROSOFT-CDO-ALLDAYEVENT:FALSE
SUMMARY:Kansas Sales and Compensating Use Tax for Construction Contractors
DESCRIPTION:This workshop covers the basics of Sales Tax and Use Tax as it applies to retail business\, as well as the appropriate uses of the different exemptions that may be encountered. Other topics discussed include record keeping for audit compliance and estimated tax payments. This information is presented by a tax specialist with the Kansas Department of Revenue.
X-ALT-DESC;FMTTYPE=text/html:This workshop covers the basics of Sales Tax and Use Tax as it applies to retail business\, as well as the appropriate uses of the different exemptions that may be encountered. Other topics discussed include record keeping for audit compliance and estimated tax payments. This information is presented by a tax specialist with the Kansas Department of Revenue.
LOCATION:Johnson County Coummunity College 12345 College Blvd. Overland Park\, KS\, 66210 Regnier Center\, 145
UID:e.2554.4850
SEQUENCE:3
DTSTAMP:20260421T040402Z
URL:https://business.shawneekschamber.com/events/details/kansas-sales-and-compensating-use-tax-for-construction-contractors-11-14-2019-4850
END:VEVENT

END:VCALENDAR
