BEGIN:VCALENDAR
VERSION:2.0
PRODID:-//ChamberMaster//Event Calendar 2.0//EN
METHOD:PUBLISH
X-PUBLISHED-TTL:P3D
REFRESH-INTERVAL:P3D
CALSCALE:GREGORIAN
BEGIN:VEVENT
DTSTART:20190217T210000Z
DTEND:20190217T223000Z
X-MICROSOFT-CDO-ALLDAYEVENT:FALSE
SUMMARY:Emma's Dilemma Read Along with Ms. Molly
DESCRIPTION:Ms Molly is back with another one of her books! Emma's Dilemma ?. Have you ever felt like others would think that you're different? That's exactly the way that Emma feels when her teacher announces the class project to create a family tree. Emma is certain that everyone in her class won't understand and accept what it means to be adopted. Can she solve her dilemma? We will be helping our friends at KVC again. Toiletries are always a really big need! They get a ton of toothbrushes/toothpastes from dental offices\; but deodorant\, tampons\, and body wash (no bar soap) are big needs (especially tampons as they have to give the kids a box at a time rather than given individually). Support kids in need by bringing 2 toiletries\, get entered in a drawing to win a signed book by Ms Molly! For every item brought in\, Espresso Yourself will take 10% off any item. 2 items=20% off any item. 5 items=50%. Can't wait to see all of our friends!
X-ALT-DESC;FMTTYPE=text/html:Ms Molly is back with another one of her books! Emma&#39\;s Dilemma ?. Have you ever felt like others would think that you&#39\;re different? That&rsquo\;s exactly the way that Emma feels when her teacher announces the class project to create a family tree. Emma is certain that everyone in her class won&#39\;t understand and accept what it means to be adopted. Can she solve her dilemma? We will be helping our friends at KVC again. Toiletries are always a really big need! They get a ton of toothbrushes/toothpastes from dental offices\; but deodorant\, tampons\, and body wash (no bar soap) are big needs (especially tampons as they have to give the kids a box at a time rather than given individually). Support kids in need by bringing 2 toiletries\, get entered in a drawing to win a signed book by Ms Molly! For every item brought in\, Espresso Yourself will take 10% off any item. 2 items=20% off any item. 5 items=50%. Can&#39\;t wait to see all of our friends!
LOCATION:Espresso Yourself 6487 Quivira Rd\, Shawnee\, Kansas 66216
UID:e.2554.4750
SEQUENCE:3
DTSTAMP:20260426T030455Z
URL:https://business.shawneekschamber.com/events/details/emma-s-dilemma-read-along-with-ms-molly-4750
END:VEVENT

END:VCALENDAR
