BEGIN:VCALENDAR
VERSION:2.0
PRODID:-//ChamberMaster//Event Calendar 2.0//EN
METHOD:PUBLISH
X-PUBLISHED-TTL:P3D
REFRESH-INTERVAL:P3D
CALSCALE:GREGORIAN
BEGIN:VEVENT
DTSTART:20190619T130000Z
DTEND:20190619T140000Z
X-MICROSOFT-CDO-ALLDAYEVENT:FALSE
SUMMARY:a.m. Connect
DESCRIPTION:A great opportunity to network and enjoy a cup of coffee. a.m. Connect meets the 1st and 3rd Wednesday of each month from 8 - 9 a.m.\n\n\n\nSpeaker:  Craig Evans\, IEE (Integrated Employment Enterprise)
X-ALT-DESC;FMTTYPE=text/html:A great opportunity to network and enjoy a cup of coffee. a.m. Connect meets the 1st and 3rd Wednesday of each month from 8 - 9 a.m.<br />\n<br />\nSpeaker:&nbsp\; Craig Evans\, IEE (Integrated Employment Enterprise)
LOCATION:Little Monkey Bizness 12219 Shawnee Mission Parkway Shawnee\, KS 66216
UID:e.2554.2160
SEQUENCE:3
DTSTAMP:20260420T024652Z
URL:https://business.shawneekschamber.com/events/details/a-m-connect-06-19-2019-2160
END:VEVENT

END:VCALENDAR
